BEGIN:VCALENDAR
PRODID:-//Det Danske Spejderkorps//NONSGML Gruppeweb//EN
VERSION:2.0
CALSCALE:GREGORIAN
X-PUBLISHED-TTL:PT1H
X-WR-CALNAME:Familiespejd
METHOD:PUBLISH
BEGIN:VEVENT
UID:gruppeweb.dk:6613:event:1113
DTSTAMP:20260422T155537Z
LAST-MODIFIED:20241210T172119Z
SUMMARY:Rundboldturnering for alle
DESCRIPTION:Vi mødes kl. 17:00 ved Søndre skoles boldbaner i sportstøj\n
 \n
URL:https://hobrogruppe.dk/begivenhed/rundboldturnering-alle
DTSTART:20250507T150000Z
DTEND:20250507T163000Z
LOCATION:Hobro Gruppe\, Smedevej 19\, 9500 Hobro
END:VEVENT
BEGIN:VEVENT
UID:gruppeweb.dk:6613:event:1135
DTSTAMP:20260422T155537Z
LAST-MODIFIED:20241210T183537Z
SUMMARY:Fælles bålaften - Sommerafslutning 17:30-19:30
DESCRIPTION:\n
URL:https://hobrogruppe.dk/begivenhed/faelles-baalaften-sommerafslutning-17
 30-1930
DTSTART;VALUE=DATE:20250625
LOCATION:
END:VEVENT
BEGIN:VEVENT
UID:gruppeweb.dk:6613:event:1212
DTSTAMP:20260422T155537Z
LAST-MODIFIED:20250423T070955Z
SUMMARY:Arbejdsdag for alle i Kærnehuset kl. 10-13
DESCRIPTION:Vi mødes i Kærnehuset kl. 10 eller når man kan. Kan man kun 
 hjælpe et par  \ntimer er det også velkommen  :-)\n\nMedbring gerne han
 dsker og lidt haveudstyr. \n\n
URL:https://hobrogruppe.dk/begivenhed/arbejdsdag-alle-i-kaernehuset-kl-10-1
 3
DTSTART:20250427T080000Z
DTEND:20250427T110000Z
LOCATION:Hobro Gruppe\, Smedevej 19\, 9500 Hobro
END:VEVENT
BEGIN:VEVENT
UID:gruppeweb.dk:6613:event:1227
DTSTAMP:20260422T155537Z
LAST-MODIFIED:20250626T192920Z
SUMMARY:UMA weekend 2025 spejdertilmelding
DESCRIPTION:[1]\n\nSe pdf.\n\n\nEn hyggelig spejderweekend for alle spejder
 e og forældre. Vi sover i telt og  \nlaver mad på bål. (Mikroer sover i
 nde)\n\nTilmelding koster 200 kr. pr. spejder. Forældre skal tilmeldes se
 perat på  \nanden tilmeldingslink\n\n\n[1] https://hobrogruppe.dk/web/con
 tent/4370672?access_token=ed565992-eeb5-4ab5-9a46-52af307d6221&amp\;unique
 =631e316912f570f20c54b976926ccb99e65e3805&amp\;download=true\n
URL:https://hobrogruppe.dk/begivenhed/uma-weekend-2025-spejdertilmelding
DTSTART:20250913T070000Z
DTEND:20250914T120000Z
LOCATION:Kølhøjhus\, Bønfeltvej 25\, 9510 Arden
END:VEVENT
BEGIN:VEVENT
UID:gruppeweb.dk:6613:event:1228
DTSTAMP:20260422T155537Z
LAST-MODIFIED:20250626T192102Z
SUMMARY:UMA weekend 2025 Forældretilmelding
DESCRIPTION:Ved tilmelding til forældrelejr skal i bruge denne side. Ved t
 ilmelding  \nscroller i til bunden af listen med navne og vælger "andet"\
 , så skulle i  \nkunne skrive jeres navn + jeres barns navn\, så vi ved 
 hvem i tilhører.\n\nHver forældre skal tilmeldes seperat. \n\n\nForæld
 re-info: Uma-lejren er en fantastisk mulighed for forældre og mindre  \ns
 øskende til at være med på sidelinjen\, og opleve en spejderlejr. Der v
 il  \nvære opgaver i forældrelejren\, som borgmesteren fordeler og giver
  grundig  \ninstruktion i. Der er mulighed for selv at have indflydelse p
 å hvilke  \nopgaver man vil være en del af. Opgaverne spænder vidt\, me
 n kan fx være  \nopbygning af lejrbål\, hjælpe til på poster og natlø
 b.\n\n\nOvernatning er der mulighed for\, i en særskilt indrette plads so
 m enten kan  \nforegå i telt\, campingvogn eller man kan sove inde på K
 ølhøjhus.\n\nSe pdf.\n\n[1]\n\n\n[1] https://hobrogruppe.dk/web/content/
 4370688?access_token=b6eb5918-dcdc-4254-8f00-833abf6e30f1&amp\;unique=8edb
 3feb02fdd997d40f785208ed45f7f8d427aa&amp\;download=true\n
URL:https://hobrogruppe.dk/begivenhed/uma-weekend-2025-foraeldretilmelding
DTSTART:20250913T070000Z
DTEND:20250914T120000Z
LOCATION:Kølhøjhus\, Bønfeltvej 25\, 9510 Arden
END:VEVENT
BEGIN:VEVENT
UID:gruppeweb.dk:6613:event:1229
DTSTAMP:20260422T155537Z
LAST-MODIFIED:20250626T201033Z
SUMMARY:Store Økssø sejlads
DESCRIPTION:Denne tur er en enestående chance for at sejle på Store Økss
 ø. \n\nStore Økssø Sejlads er et traditionsrigt arrangement\, som er b
 levet afholdt  \ni over 40 år. Rold Skov Division har som de eneste hvert
  år lov at sejle  \npå Store Økssø. Sejladsen foregår i hjemmebyggede
  både af presenninger\,  \ngrene og granris. Trops- og seniorspejdere kan
  deltage. \n\nDer er overnatning på på Jamborettepladsen for tropsspejd
 erne\, og I står  \nselv for forplejningen. \n\nDer vil være erfarne sp
 ejdere til stede til hjælpe med bådbygningen og  \nalle regler vedr. sik
 kerhed på vand bliver selvfølgelig overholdt. Alle  \ndeltagere skal kun
 ne svømme 200 meter i redningsvest. \n\nLørdag \n11.00 Ankomst Jambore
 ttepladsen \n12.00 Intro til bådbygning starter for nye deltagere. \n13
 :00 Bådbygning starter. \n16:30 Bådbygning slutter. \n\nDer overnattes
  på Jamborettepladsen. \n\nSøndag \n10:30 Sejlads starter efter fastla
 gt rute over søen \n12:30 Præmieoverrækkelse \n13:00 Tak for i år. 
 \n\n
URL:https://hobrogruppe.dk/begivenhed/store-oekssoe-sejlads
DTSTART:20250823T090000Z
DTEND:20250824T110000Z
LOCATION:Store Økssø sejlads\, Møldrupvej 34\, 9520 Skørping
END:VEVENT
BEGIN:VEVENT
UID:gruppeweb.dk:6613:event:1245
DTSTAMP:20260422T155537Z
LAST-MODIFIED:20250804T130443Z
SUMMARY:Fælles opstart og oprykning for alle spejdere 17:00
DESCRIPTION:Vi mødes alle spejdere kl. 17:00 til fælles opstart og oprykn
 ing. \n\nForældre er meget velkommen til at blive for at se oprykningen 
 og der vil  \nefterfølgende være en kop kaffe og lidt info til forældre
 ne.\n\nVi slutter kl. 18:30\n\n\n\n
URL:https://hobrogruppe.dk/begivenhed/faelles-opstart-og-oprykning-alle-spe
 jdere-1700
DTSTART:20250811T150000Z
DTEND:20250811T163000Z
LOCATION:Hobro Gruppe\, Smedevej 19\, 9500 Hobro
END:VEVENT
BEGIN:VEVENT
UID:gruppeweb.dk:6613:event:1310
DTSTAMP:20260422T155537Z
LAST-MODIFIED:20251022T124939Z
SUMMARY:Julegåtur ved Røverknolden
DESCRIPTION: \n\nVi mødes ved Vedsted Skovhus lige bag Røverknolden i Re
 bild. *Husk at  \nparkere ude på P-pladsen og gå ind til Vedsted Skovhus
 .*\n\nJulegåturen er en familiebegivenhed\, så tag gerne søskende\, for
 ældre\,  \nbedsteforældre og naboerne med. Vi går 5 km igennem skoven o
 g når vi er  \ntilbage ved Vedstedskovhus\, får vi en kop varm kakao/gl
 øgg/kaffe. Husk at  \nmedbringe en kop pr. person.\n\nPrisen er 40 kr. pr
 . spejder. (kun betaling for spejder)  Tilmelding og  \nbetaling sker vi 
 vores hjemmeside.\n\nSidste frist for tilmelding er Lørdag den 22. novemb
 er. Vi glæder os til at  \nse jer i Rold Skov.\n\nJulehilsen fra Division
 sledelsen\n\n
URL:https://hobrogruppe.dk/begivenhed/julegaatur-ved-roeverknolden
DTSTART:20251130T090000Z
DTEND:20251130T133000Z
LOCATION:Vedstedskovhus v/ Røverknolden\, Rebild Kirkevej 8\, 9520 Skørpi
 ng
END:VEVENT
BEGIN:VEVENT
UID:gruppeweb.dk:6613:event:1366
DTSTAMP:20260422T155537Z
LAST-MODIFIED:20260109T163016Z
SUMMARY:Gruppetur
DESCRIPTION:\n
URL:https://hobrogruppe.dk/begivenhed/gruppetur-3
DTSTART;VALUE=DATE:20260410
DTEND;VALUE=DATE:20260413
LOCATION:Hobro Gruppe\, Smedevej 19\, 9500 Hobro
END:VEVENT
BEGIN:VEVENT
UID:gruppeweb.dk:6613:event:1379
DTSTAMP:20260422T155537Z
LAST-MODIFIED:20260409T110158Z
SUMMARY:Gruppetur 2026
DESCRIPTION:*Jubiiiii* – Der er gruppetur i weekenden d. 10.-12. april\, 
 2026\n\nGruppeturen er for alle medlemmer i Hobro Gruppe - det vil sige Fa
 miliespejd\,  \nMikro\, Mini\, Junior/Spirer\, Tropsspejdere og Klan! \n\
 n\n*Hvad skal vi lave:*\n\nVi skal være naturdetektiver!\n\nVi skal finde
  dyr og planter\, både i vand og på land\, så vi skal nok bruge  \nbåd
 e lup og net. Vi skal lede efter dyrespor og måske lave kunst af  \nnatur
 en. Selvfølgelig også en masse andet – vi er primært udenfor! 😊\n\
 nVi skal spise dejlig spejdermad\, synge\, hygge\, lege og lave underholdn
 ing for  \nhinanden – ligesom vi plejer!\n\n*Hvor:*\n\nVi har lejet en d
 ejlig hytte ved Viborg – Hald Sø\, som I kan se billeder  \naf her: htt
 ps://vranumbakkehus.dk/fakta.html  [1]\n\nAdressen på hytten: Vranum Bak
 kehus\, Vejlevej 62\, 8800 Viborg\n\n*Hvordan:*\n\nAnkomst: fredag d. 10. 
 april kl. 18.00 – Der serveres aftensmad.\n\nAfhentning: søndag kl. 12.
 00.\n\nForældre sørger for transport frem og tilbage – snak gerne samm
 en på  \ntværs mhb. på samkørsel.\n\n*Pris* for hele weekenden: 250 kr
 . pr. spejder\n\nTilmelding *senest* 27. marts\, 2026!\n\nHar du spørgsm
 ål så kontakt din leder!\n\nVi kan godt lide kage – både hjemmebagt o
 g hjemmebragt -giv lyd\, hvis du  \nkan hjælpe 😊\n\nMed spejderhilsen\
 n\nAlle lederne i Hobro Gruppe – *Vi glæder os!*\n\n*Pakkeliste*\n\n*T
 ØJ:*\n\n    • Uniform + Tørklæde\n\n    • Gode sko/støvler\n\n
     • Indesko til hyttebrug\n\n    • Strømper\n\n    • Varme 
 sokker\n\n    • Undertøj\n\n    • T-shirts\n\n    • Varme tr
 øjer\n\n    • Nattøj\n\n    • Lange bukser\n\n    • Regntøj
  + gummistøvler\n\n    • Vanter\, hue (?)\n\n\n*GREJ:*\n\n    • S
 ovepose\n\n    • Lagen\n\n    • Spejderkniv/dolk \n\n    • H
 åndklæde\n\n    • Toiletgrej (så lidt som muligt)\n\n    • Sang
 bog\n\n    • Skrivegrej og papir (til spejderlommen)\n\n    • Pand
 elygte/lommelygte\n\n    • Drikkedunk\n\n    • Sygesikringsbevis\n
 \n*Husk navn på alle ting og pak gerne i én samlet taske😊*\n\n\n[1] h
 ttps://vranumbakkehus.dk/fakta.html\n
URL:https://hobrogruppe.dk/begivenhed/gruppetur-2026
DTSTART:20260410T160000Z
DTEND:20260412T100000Z
LOCATION:Vranum Bakkehus\, Vejlevej 62\, 8800 Viborg
END:VEVENT
BEGIN:VEVENT
UID:gruppeweb.dk:6613:event:1248
DTSTAMP:20260422T155537Z
LAST-MODIFIED:20250828T195622Z
SUMMARY:Familiespejd kl. 09:30 - Smedevej 19
DESCRIPTION:Vi mødes kl. 09:30 på Smedevej 19. \n\n\n
URL:https://hobrogruppe.dk/begivenhed/familiespejd-kl-0930-smedevej-19
DTSTART:20250817T073000Z
DTEND:20250817T093000Z
LOCATION:Hobro Gruppe\, Smedevej 19\, 9500 Hobro
END:VEVENT
BEGIN:VEVENT
UID:gruppeweb.dk:6613:event:1289
DTSTAMP:20260422T155537Z
LAST-MODIFIED:20250828T200726Z
SUMMARY:Familiespejd på Smedevej
DESCRIPTION:*Æbler\n*\nMødet foregår på Smedevej 19\, 9500 Hobro. Har d
 u æbler i haven\, så  \nmedbring gerne. Alle medbringer et lille syltet
 øjsglas\, kop og spisegrej.\n\n
URL:https://hobrogruppe.dk/begivenhed/familiespejd-paa-smedevej
DTSTART:20250831T073000Z
DTEND:20250831T093000Z
LOCATION:
END:VEVENT
BEGIN:VEVENT
UID:gruppeweb.dk:6613:event:1290
DTSTAMP:20260422T155537Z
LAST-MODIFIED:20250828T200619Z
SUMMARY:Familiespejd - på Kølhøjhus
DESCRIPTION:Vi mødes på Kølhøjhus\, Bønfeltvej 25\, 9510 Arden.\n\n \
 n\nVi gennemfører toiletløbet. Løbet handler om alt der kan relatere si
 g til  \ndet her med at skulle på toilet\, prut\, tis\, toiletpapir og lo
 rt.\n\nLøbet er ikke en konkurrence hvor der er vindere og tabere\, det h
 andler om  \nat gennemføre og at have det sjovt.\n\n\nDer er lejr for de 
 større spejdere\, UMA lejr\, på Kølhøjhus. Efter løbet  \ner der muli
 gt at deltage i frokost nede i Hobro Gruppes lejr\, så man også  \nfår 
 set hvordan en lejr ser ud.\n\n
URL:https://hobrogruppe.dk/begivenhed/familiespejd-paa-koelhoejhus
DTSTART:20250914T073000Z
DTEND:20250914T093000Z
LOCATION:Kølhøjhus\, Bønfeltvej 25\, 9510 Arden
END:VEVENT
BEGIN:VEVENT
UID:gruppeweb.dk:6613:event:1291
DTSTAMP:20260422T155537Z
LAST-MODIFIED:20250828T200900Z
SUMMARY:Familiespejd på Smedevej
DESCRIPTION:*Snegle*\n\nVi skal se nærmere på snegle. Hvordan spiser en s
 negl\, hvor stærk er den  \nog hvor bor den?**\n\n
URL:https://hobrogruppe.dk/begivenhed/familiespejd-paa-smedevej-0
DTSTART:20250928T073000Z
DTEND:20250928T093000Z
LOCATION:
END:VEVENT
BEGIN:VEVENT
UID:gruppeweb.dk:6613:event:1292
DTSTAMP:20260422T155537Z
LAST-MODIFIED:20250828T125129Z
SUMMARY:Familiespejd - på Smedevej
DESCRIPTION:Halloween\n\nVi skærer græskar - medbring gerne redskaber til
  udskæring\, hvis du har  \nnogen.\n\n\nVi laver græskarsuppe og rister 
 kernerne over bålet.\n\n
URL:https://hobrogruppe.dk/begivenhed/familiespejd-paa-smedevej-1
DTSTART:20251026T083000Z
DTEND:20251026T103000Z
LOCATION:
END:VEVENT
BEGIN:VEVENT
UID:gruppeweb.dk:6613:event:1293
DTSTAMP:20260422T155537Z
LAST-MODIFIED:20250828T200945Z
SUMMARY:Familiespejd - i Mariager
DESCRIPTION:*Trolde**\n**\n*\n\nVi mødes i Mariager i Rosenhaven\, Kloster
 gade 15\, 9550 Mariager.\n\nVi finder den store trold i skoven og laver vo
 res egne trolde.\n\n\nMedbring madpakke og eventuelt noget varmt at drikke
 .\n\n
URL:https://hobrogruppe.dk/begivenhed/familiespejd-i-mariager
DTSTART:20251012T073000Z
DTEND:20251012T093000Z
LOCATION:Rosenhaven\, Klostergade 15\, 9550 Mariager
END:VEVENT
BEGIN:VEVENT
UID:gruppeweb.dk:6613:event:1294
DTSTAMP:20260422T155537Z
LAST-MODIFIED:20251107T115242Z
SUMMARY:Familiespejd - på Smedevej
DESCRIPTION:Knob og bål\n\nVi ændrer mødet til at handle om at binde kno
 b og tænde og slukke bål.\n\n\nMedbring gerne et par aviser hvis I har.\
 n\n
URL:https://hobrogruppe.dk/begivenhed/familiespejd-paa-smedevej-2
DTSTART:20251109T083000Z
DTEND:20251109T103000Z
LOCATION:
END:VEVENT
BEGIN:VEVENT
UID:gruppeweb.dk:6613:event:1295
DTSTAMP:20260422T155537Z
LAST-MODIFIED:20250828T130932Z
SUMMARY:Familiespejd - Lokes Hede
DESCRIPTION:Juledekorationer\nVi skal være på Lokes Hede\, gruppens primi
 tive hytte - der er hverken  \nrindende vand eller elektricitet\, men Lok
 es Hede har gennem årene dannet  \nrammen om mange herlige spejderminder.
 \nMedbring varmt at drikke\, vådservietter og eventuelt mad/snacks.\n\nMe
 dbring selv lys til dekorationer.\nSådan finder du Lokes Hede:\nGPS: Kør
  mod Væggedalen 12\, 9500 Hobro\, men parker inden ved markeringen.\n\nVe
 jbeskrivelse: Kør gennem Nr. Onsild\, fortsæt mod Hvornum. Kort efter du
   \nhar kørt over motorvejsbroen kommer et skilt ind til højre\, hvor de
 r står  \nLokes Plantage\, kør her ind ad. Du skal køre et godt stykke.
  Der vil være  \nsat markering op hvor du skal parkere.\n
URL:https://hobrogruppe.dk/begivenhed/familiespejd-lokes-hede
DTSTART:20251123T083000Z
DTEND:20251123T103000Z
LOCATION:Lokes Hede - se beskrivelse
END:VEVENT
BEGIN:VEVENT
UID:gruppeweb.dk:6613:event:1296
DTSTAMP:20260422T155537Z
LAST-MODIFIED:20250828T131828Z
SUMMARY:Familiespejd - på Smedevej
DESCRIPTION:Juleafslutning\n\nNissehue er tilladt\n\n
URL:https://hobrogruppe.dk/begivenhed/familiespejd-paa-smedevej-3
DTSTART:20251207T083000Z
DTEND:20251207T103000Z
LOCATION:Hobro Gruppe\, Smedevej 19\, 9500 Hobro
END:VEVENT
BEGIN:VEVENT
UID:gruppeweb.dk:6613:event:1367
DTSTAMP:20260422T155537Z
LAST-MODIFIED:20260214T090242Z
SUMMARY:Fugle - Smedevej
DESCRIPTION:\n
URL:https://hobrogruppe.dk/begivenhed/fugle-smedevej
DTSTART:20260118T083000Z
DTEND:20260118T103000Z
LOCATION:Hobro Gruppe\, Smedevej
END:VEVENT
BEGIN:VEVENT
UID:gruppeweb.dk:6613:event:1368
DTSTAMP:20260422T155537Z
LAST-MODIFIED:20260214T090241Z
SUMMARY:Førstehjælp-Smedevej
DESCRIPTION:\n
URL:https://hobrogruppe.dk/begivenhed/foerstehjaelp-smedevej
DTSTART:20260201T083000Z
DTEND:20260201T103000Z
LOCATION:Hobro Gruppe\, Smedevej 19\, 9500 Hobro
END:VEVENT
BEGIN:VEVENT
UID:gruppeweb.dk:6613:event:1369
DTSTAMP:20260422T155537Z
LAST-MODIFIED:20260212T184726Z
SUMMARY:Mørke - Ørnedalsbugten
DESCRIPTION:\n
URL:https://hobrogruppe.dk/begivenhed/moerke-oernedalsbugten
DTSTART:20260213T160000Z
DTEND:20260213T180000Z
LOCATION:Hobro Gruppe\, Smedevej 19\, 9500 Hobro
END:VEVENT
BEGIN:VEVENT
UID:gruppeweb.dk:6613:event:1370
DTSTAMP:20260422T155537Z
LAST-MODIFIED:20260214T090235Z
SUMMARY:Spejderlejr (overnatning på Boldrup Museum
DESCRIPTION:\n
URL:https://hobrogruppe.dk/begivenhed/spejderlejr-overnatning-paa-boldrup-m
 useum
DTSTART:20260425T140000Z
DTEND:20260426T080000Z
LOCATION:Hobro Gruppe\, Smedevej 19\, 9500 Hobro
END:VEVENT
BEGIN:VEVENT
UID:gruppeweb.dk:6613:event:1371
DTSTAMP:20260422T155537Z
LAST-MODIFIED:20260111T101520Z
SUMMARY:Finde vej - Lokes Hede
DESCRIPTION:Sådan finder du Lokes Hede:\n\n\nGPS: Kør mod Væggedalen 12\
 , 9500 Hobro\, men parker inden ved markeringen.\n\n\nVejbeskrivelse: Kør
  gennem Nr. Onsild\, fortsæt mod Hvornum. Kort efter du  \nhar kørt over
  motorvejsbroen kommer et skilt ind til højre\, hvor der står  \nLokes P
 lantage\, kør her ind ad. Du skal køre et godt stykke. Der vil være  \n
 sat markering op hvor du skal parkere.\n\n
URL:https://hobrogruppe.dk/begivenhed/finde-vej-lokes-hede
DTSTART:20260301T083000Z
DTEND:20260301T103000Z
LOCATION:Hobro Gruppe\, Smedevej 19\, 9500 Hobro
END:VEVENT
BEGIN:VEVENT
UID:gruppeweb.dk:6613:event:1372
DTSTAMP:20260422T155537Z
LAST-MODIFIED:20260214T090231Z
SUMMARY:Byløb - Granerne
DESCRIPTION:\n
URL:https://hobrogruppe.dk/begivenhed/byloeb-granerne
DTSTART:20260315T083000Z
DTEND:20260315T103000Z
LOCATION:Hobro Gruppe\, Smedevej 19\, 9500 Hobro
END:VEVENT
BEGIN:VEVENT
UID:gruppeweb.dk:6613:event:1373
DTSTAMP:20260422T155537Z
LAST-MODIFIED:20260214T090228Z
SUMMARY:Bål-Knob-Dolk- Smedevej
DESCRIPTION:\n
URL:https://hobrogruppe.dk/begivenhed/baal-knob-dolk-smedevej
DTSTART:20260329T073000Z
DTEND:20260329T093000Z
LOCATION:Hobro Gruppe\, Smedevej 19\, 9500 Hobro
END:VEVENT
END:VCALENDAR
